BEGIN:VCALENDAR
VERSION:2.0
PRODID:-//Event Cards//EN
BEGIN:VEVENT
UID:962@centreforpureskin.vcanopy.net
DTSTAMP:20260421T074321Z
DTSTART:20260325T113900Z
DTEND:20260428T113900Z
SUMMARY:SkinBetter Skincare School
URL:https://centreforpureskin.vcanopy.net/?p=962
LOCATION:Centre for Plastic Surgery & Pure Skin
END:VEVENT
END:VCALENDAR
